{"text_format":"1","workbook":"xlsx","n_sheets":7,"sheets":["Taul1","Lujuuskäyrä","Lujuus","K28","K7","K3","Betoniluokka"],"not_rendered":{"charts":3,"images":5,"macros":1,"external_links":0,"defined_names":21,"comments":0,"pivot_tables":0},"unopened":[{"sheet":"Lujuuskäyrä","index":1,"reason":"not_a_worksheet"},{"sheet":"Betoniluokka","index":6,"reason":"not_a_worksheet"}],"bounds":{"document_bytes":16777216,"sheet_cells":100000,"rows_first":2000,"rows_last":500,"rows_between":2000,"halvings":0,"cell_chars":16384,"cell_head_chars":4096},"cells_cut":0,"cells_raw":0,"read":"whole","date_system":"1900"}

{"sheet":"Taul1","index":0,"n_rows":54,"n_cols":13,"rows_kept":54,"cut":false,"hidden":false,"merged":[[6,0,6,2],[7,0,7,2],[9,0,9,1],[10,0,10,1],[11,0,11,1],[9,2,9,9],[17,3,17,4],[17,0,17,2],[15,0,15,3],[10,2,10,9],[11,2,11,9],[13,1,13,2],[14,6,15,7]]}
["Poista vanhat tiedot",null,null,null,"Aloita laskeminen",null,null,null,null,"Päiväys","1.5.2015","Kello",{"$f":"TIME(K2,K3,0)","v":"08:00:00"}]
["klikkaamalla tästä!",null,null,null,"klikkaamalla tästä!",null,null,null,null,"Tunnit",8]
[null,null,null,null,null,null,null,null,null,"Minuutit",0,null,2]
[null,null,null,null,null,null,null,null,null,"Lämpötila",18,null,3]
[]
[]
[]
["  Tekninen neuvonta",null,null,null,null,null,null,null,null,{"$f":"+NOW()","v":"2019-11-11T14:47:59.980"}]
[]
["  Kohde:",null,"As Oy Lujuushuippu"]
["  Rakennusosa:",null,"Väliseinä"]
["  Betonityönjohtaja:",null,"Taisto Terävä"]
[]
["  Betoni:",{"$f":"+Lujuus!C1","v":"C30/37"},null,"Laadunarvosteluikä (d)",null,{"$f":"CHOOSE(M3,28,7,3)","v":7}]
[null,null,null,null,null,null,"Kuutio-\nlujuusarvio ="]
["Kypsyysikä t20  =",null,null,null,{"$f":"+MAX(H21:H50)","v":0},"(d)",null,null,{"$f":"MAX(I21:I50)","v":0},"MPa"]
[]
["Mittaustulokset",null,null,"Aika valusta",null,"Keskilämpötila","Kypsyyslisä","Kypsyysikä","Lujuus-","Suunnittelu"]
["Päiväys","Kello","Lämpötila","tunteina","vuorokausina","aikavälillä","aikavälillä","t20","arvio","lujuudesta"]
["a","a","(C)","(h)","(d)","(C)","(d)","(d)","(MPa)","(%)"]
[null,null,null,0,0,"-----","----",0]
[null,null,null,{"$f":"IF(A22>0,+((A22-$A$21)+(B22-$B$21))*24,\"\")","v":""},{"$f":"+IF(A22>0,D22/24,\"\")","v":""},{"$f":"+IF(A22>0,(C22+C21)/2,\"\")","v":""},{"$f":"+IF(F22<-16,0,IF(A22>0,(F22+16)*(F22+16)/36/36*(E22-E21),\"\"))","v":""},{"$f":"+IF(A22>0,G22+H21,\"\")","v":""}]
[null,null,null,{"$f":"IF(A23>0,+((A23-$A$21)+(B23-$B$21))*24,\"\")","v":""},{"$f":"+IF(A23>0,D23/24,\"\")","v":""},{"$f":"+IF(A23>0,(C23+C22)/2,\"\")","v":""},{"$f":"+IF(F23<-16,0,IF(A23>0,(F23+16)*(F23+16)/36/36*(E23-E22),\"\"))","v":""},{"$f":"+IF(A23>0,G23+H22,\"\")","v":""}]
[null,null,null,"","","","",""]
[null,null,null,"","","","",""]
[null,null,null,"","","","",""]
[null,null,null,"","","","",""]
[null,null,null,"","","","",""]
[null,null,null,"","","","",""]
[null,null,null,"","","","",""]
[null,null,null,"","","","",""]
[null,null,null,"","","","",""]
[null,null,null,"","","","",""]
[null,null,null,"","","","",""]
[null,null,null,"","","","",""]
[null,null,null,"","","","",""]
[null,null,null,"","","","",""]
[null,null,null,"","","","",""]
[null,null,null,"","","","",""]
[null,null,null,"","","","",""]
[null,null,null,"","","","",""]
[null,null,null,"","","","",""]
[null,null,null,"","","","",""]
[null,null,null,"","","","",""]
[null,null,null,"","","","",""]
[null,null,null,"","","","",""]
[null,null,null,"","","","",""]
[null,null,null,"","","","",""]
[null,null,null,"","","","",""]
[null,null,null,"","",{"$f":"+IF(A50>0,(C50+#REF!)/2,\"\")","v":""},{"$f":"+IF(F50<-16,0,IF(A50>0,(F50+16)*(F50+16)/36/36*(E50-#REF!),\"\"))","v":""},{"$f":"+IF(A50>0,G50+#REF!,\"\")","v":""}]
["Oheinen laskelma perustuu betonin kypsyysiän ja lujuuden väliseen riippuvuuteen ns. tyypillisillä perusbetoneilla."]
["Jos betonin valmistuksessa käytetään erikoissuhteituksia esim. lisäaineita, seosaineita tai erittäin pieniä sementtimääriä"]
["on niiden vaikutus lujuudenkehitykseen selvitettävä erikseen."]
["Finnsementti Oy ei vastaa syötettyjen tietojen oikeellisuudesta."]

{"sheet":"Lujuus","index":2,"n_rows":90,"n_cols":13,"rows_kept":90,"cut":false,"hidden":true,"merged":[]}
[null,null,{"$f":"+CHOOSE(C2,E1,F1,G1,H1,I1,J1)","v":"C30/37"},null,"C40/50","C35/45","C30/37","C25/30","C20/25","C16/20"]
[null,{"$f":"+Taul1!$M$3","v":2},{"$f":"+Taul1!M4","v":3},null,50,45,37,30,25,20]
[{"$f":"+T20D","v":0},null,{"$f":"CHOOSE(C2,E2,F2,G2,H2,I2,J2)","v":37}]
["Kypsyys","Lujuussuhde","Lujuus",null,null,null,null,null,null,null,"Kypsyys","Lujuus","Loppulujuus"]
[0,0,{"$f":"+B5*$C$3","v":0},null,null,null,null,null,null,null,{"$f":"+Taul1!H21","v":0},{"$f":"+Taul1!I21","v":0},{"$f":"+Taul1!$I$16","v":0}]
[{"$f":"CHOOSE($B$2,'K28'!A5,'K7'!A5,'K3'!A5)","v":8.3333333333333329E-2},{"$f":"CHOOSE($B$2,'K28'!I5,'K7'!H5,'K3'!H5)","v":0},{"$f":"+B6*$C$3","v":0},null,null,null,null,null,null,null,{"$f":"+IF(Taul1!H22=\"\",0,Taul1!H22)","v":0},{"$f":"+Taul1!I22","v":0},{"$f":"+Taul1!$I$16","v":0}]
[{"$f":"CHOOSE($B$2,'K28'!A6,'K7'!A6,'K3'!A6)","v":0.16666666666666666},{"$f":"CHOOSE($B$2,'K28'!I6,'K7'!H6,'K3'!H6)","v":0},0,null,null,null,null,null,null,null,{"$f":"+IF(Taul1!H23=\"\",0,Taul1!H23)","v":0},{"$f":"+Taul1!I23","v":0},{"$f":"+Taul1!$I$16","v":0}]
[{"$f":"CHOOSE($B$2,'K28'!A7,'K7'!A7,'K3'!A7)","v":0.25},{"$f":"CHOOSE($B$2,'K28'!I7,'K7'!H7,'K3'!H7)","v":0},0,null,null,null,null,null,null,null,{"$f":"+IF(Taul1!H24=\"\",0,Taul1!H24)","v":0},{"$f":"+Taul1!I24","v":0},{"$f":"+Taul1!$I$16","v":0}]
[{"$f":"CHOOSE($B$2,'K28'!A8,'K7'!A8,'K3'!A8)","v":0.33333333333333331},{"$f":"CHOOSE($B$2,'K28'!I8,'K7'!H8,'K3'!H8)","v":3.1512271444560057E-2},1.1659540434487221,null,null,null,null,null,null,null,{"$f":"+IF(Taul1!H25=\"\",0,Taul1!H25)","v":0},{"$f":"+Taul1!I25","v":0},{"$f":"+Taul1!$I$16","v":0}]
[{"$f":"CHOOSE($B$2,'K28'!A9,'K7'!A9,'K3'!A9)","v":0.41666666666666669},{"$f":"CHOOSE($B$2,'K28'!I9,'K7'!H9,'K3'!H9)","v":0.10775154960784739},3.9868073354903535,null,null,null,null,null,null,null,{"$f":"+IF(Taul1!H26=\"\",0,Taul1!H26)","v":0},{"$f":"+Taul1!I26","v":0},{"$f":"+Taul1!$I$16","v":0}]
[{"$f":"CHOOSE($B$2,'K28'!A10,'K7'!A10,'K3'!A10)","v":0.5},{"$f":"CHOOSE($B$2,'K28'!I10,'K7'!H10,'K3'!H10)","v":0.17895799122590153},6.6214456753583564,null,null,null,null,null,null,null,{"$f":"+IF(Taul1!H27=\"\",0,Taul1!H27)","v":0},{"$f":"+Taul1!I27","v":0},{"$f":"+Taul1!$I$16","v":0}]
[{"$f":"CHOOSE($B$2,'K28'!A11,'K7'!A11,'K3'!A11)","v":0.58333333333333337},{"$f":"CHOOSE($B$2,'K28'!I11,'K7'!H11,'K3'!H11)","v":0.240274670616553},8.890162812812461,null,null,null,null,null,null,null,{"$f":"+IF(Taul1!H28=\"\",0,Taul1!H28)","v":0},{"$f":"+Taul1!I28","v":0},{"$f":"+Taul1!$I$16","v":0}]
[{"$f":"CHOOSE($B$2,'K28'!A12,'K7'!A12,'K3'!A12)","v":0.66666666666666663},{"$f":"CHOOSE($B$2,'K28'!I12,'K7'!H12,'K3'!H12)","v":0.2929763324895942},10.840124302114985,null,null,null,null,null,null,null,{"$f":"+IF(Taul1!H29=\"\",0,Taul1!H29)","v":0},{"$f":"+Taul1!I29","v":0},{"$f":"+Taul1!$I$16","v":0}]
[{"$f":"CHOOSE($B$2,'K28'!A13,'K7'!A13,'K3'!A13)","v":0.75},{"$f":"CHOOSE($B$2,'K28'!I13,'K7'!H13,'K3'!H13)","v":0.33873763669367163},12.533292557665851,null,null,null,null,null,null,null,{"$f":"+IF(Taul1!H30=\"\",0,Taul1!H30)","v":0},{"$f":"+Taul1!I30","v":0},{"$f":"+Taul1!$I$16","v":0}]
[{"$f":"CHOOSE($B$2,'K28'!A14,'K7'!A14,'K3'!A14)","v":0.83333333333333337},{"$f":"CHOOSE($B$2,'K28'!I14,'K7'!H14,'K3'!H14)","v":0.37893475046526787},14.020585767214911,null,null,null,null,null,null,null,{"$f":"+IF(Taul1!H31=\"\",0,Taul1!H31)","v":0},{"$f":"+Taul1!I31","v":0},{"$f":"+Taul1!$I$16","v":0}]
[{"$f":"CHOOSE($B$2,'K28'!A15,'K7'!A15,'K3'!A15)","v":0.91666666666666663},{"$f":"CHOOSE($B$2,'K28'!I15,'K7'!H15,'K3'!H15)","v":0.41462356242465898},15.341071809712382,null,null,null,null,null,null,null,{"$f":"+IF(Taul1!H32=\"\",0,Taul1!H32)","v":0},{"$f":"+Taul1!I32","v":0},{"$f":"+Taul1!$I$16","v":0}]
[{"$f":"CHOOSE($B$2,'K28'!A16,'K7'!A16,'K3'!A16)","v":1},{"$f":"CHOOSE($B$2,'K28'!I16,'K7'!H16,'K3'!H16)","v":0.44660904183250155},16.524534547802556,null,null,null,null,null,null,null,{"$f":"+IF(Taul1!H33=\"\",0,Taul1!H33)","v":0},{"$f":"+Taul1!I33","v":0},{"$f":"+Taul1!$I$16","v":0}]
[{"$f":"CHOOSE($B$2,'K28'!A17,'K7'!A17,'K3'!A17)","v":1.0833333333333333},{"$f":"CHOOSE($B$2,'K28'!I17,'K7'!H17,'K3'!H17)","v":0.47551079395113294},17.593899376191917,null,null,null,null,null,null,null,{"$f":"+IF(Taul1!H34=\"\",0,Taul1!H34)","v":0},{"$f":"+Taul1!I34","v":0},{"$f":"+Taul1!$I$16","v":0}]
[{"$f":"CHOOSE($B$2,'K28'!A18,'K7'!A18,'K3'!A18)","v":1.1666666666666667},{"$f":"CHOOSE($B$2,'K28'!I18,'K7'!H18,'K3'!H18)","v":0.50181242938846438},18.567059887373183,null,null,null,null,null,null,null,{"$f":"+IF(Taul1!H35=\"\",0,Taul1!H35)","v":0},{"$f":"+Taul1!I35","v":0},{"$f":"+Taul1!$I$16","v":0}]
[{"$f":"CHOOSE($B$2,'K28'!A19,'K7'!A19,'K3'!A19)","v":1.25},{"$f":"CHOOSE($B$2,'K28'!I19,'K7'!H19,'K3'!H19)","v":0.52589693254558934},19.458186504186806,null,null,null,null,null,null,null,{"$f":"+IF(Taul1!H36=\"\",0,Taul1!H36)","v":0},{"$f":"+Taul1!I36","v":0},{"$f":"+Taul1!$I$16","v":0}]
[{"$f":"CHOOSE($B$2,'K28'!A20,'K7'!A20,'K3'!A20)","v":1.3333333333333333},{"$f":"CHOOSE($B$2,'K28'!I20,'K7'!H20,'K3'!H20)","v":0.54807182981941105},20.27865770331821,null,null,null,null,null,null,null,{"$f":"+IF(Taul1!H37=\"\",0,Taul1!H37)","v":0},{"$f":"+Taul1!I37","v":0},{"$f":"+Taul1!$I$16","v":0}]
[{"$f":"CHOOSE($B$2,'K28'!A21,'K7'!A21,'K3'!A21)","v":1.4166666666666667},{"$f":"CHOOSE($B$2,'K28'!I21,'K7'!H21,'K3'!H21)","v":0.5685872350754273},21.03772769779081,null,null,null,null,null,null,null,{"$f":"+IF(Taul1!H38=\"\",0,Taul1!H38)","v":0},{"$f":"+Taul1!I38","v":0},{"$f":"+Taul1!$I$16","v":0}]
[{"$f":"CHOOSE($B$2,'K28'!A22,'K7'!A22,'K3'!A22)","v":1.5},{"$f":"CHOOSE($B$2,'K28'!I22,'K7'!H22,'K3'!H22)","v":0.58764895218915603},21.743011230998771,null,null,null,null,null,null,null,{"$f":"+IF(Taul1!H39=\"\",0,Taul1!H39)","v":0},{"$f":"+Taul1!I39","v":0},{"$f":"+Taul1!$I$16","v":0}]
[{"$f":"CHOOSE($B$2,'K28'!A23,'K7'!A23,'K3'!A23)","v":1.5833333333333333},{"$f":"CHOOSE($B$2,'K28'!I23,'K7'!H23,'K3'!H23)","v":0.60542812392711476},22.400840585303246,null,null,null,null,null,null,null,{"$f":"+IF(Taul1!H40=\"\",0,Taul1!H40)","v":0},{"$f":"+Taul1!I40","v":0},{"$f":"+Taul1!$I$16","v":0}]
[{"$f":"CHOOSE($B$2,'K28'!A24,'K7'!A24,'K3'!A24)","v":1.6666666666666667},{"$f":"CHOOSE($B$2,'K28'!I24,'K7'!H24,'K3'!H24)","v":0.62206843905512688},23.016532245039695,null,null,null,null,null,null,null,{"$f":"+IF(Taul1!H41=\"\",0,Taul1!H41)","v":0},{"$f":"+Taul1!I41","v":0},{"$f":"+Taul1!$I$16","v":0}]
[{"$f":"CHOOSE($B$2,'K28'!A25,'K7'!A25,'K3'!A25)","v":1.75},{"$f":"CHOOSE($B$2,'K28'!I25,'K7'!H25,'K3'!H25)","v":0.63769158951302041},23.594588811981755,null,null,null,null,null,null,null,{"$f":"+IF(Taul1!H42=\"\",0,Taul1!H42)","v":0},{"$f":"+Taul1!I42","v":0},{"$f":"+Taul1!$I$16","v":0}]
[{"$f":"CHOOSE($B$2,'K28'!A26,'K7'!A26,'K3'!A26)","v":1.8333333333333333},{"$f":"CHOOSE($B$2,'K28'!I26,'K7'!H26,'K3'!H26)","v":0.65240145594732413},24.138853870050994,null,null,null,null,null,null,null,{"$f":"+IF(Taul1!H43=\"\",0,Taul1!H43)","v":0},{"$f":"+Taul1!I43","v":0},{"$f":"+Taul1!$I$16","v":0}]
[{"$f":"CHOOSE($B$2,'K28'!A27,'K7'!A27,'K3'!A27)","v":1.9166666666666667},{"$f":"CHOOSE($B$2,'K28'!I27,'K7'!H27,'K3'!H27)","v":0.66628735657323235},24.652632193209598,null,null,null,null,null,null,null,{"$f":"+IF(Taul1!H44=\"\",0,Taul1!H44)","v":0},{"$f":"+Taul1!I44","v":0},{"$f":"+Taul1!$I$16","v":0}]
[{"$f":"CHOOSE($B$2,'K28'!A28,'K7'!A28,'K3'!A28)","v":2},{"$f":"CHOOSE($B$2,'K28'!I28,'K7'!H28,'K3'!H28)","v":0.67942659713958597},25.138784094164681,null,null,null,null,null,null,null,{"$f":"+IF(Taul1!H45=\"\",0,Taul1!H45)","v":0},{"$f":"+Taul1!I45","v":0},{"$f":"+Taul1!$I$16","v":0}]
[{"$f":"CHOOSE($B$2,'K28'!A29,'K7'!A29,'K3'!A29)","v":2.0833333333333335},{"$f":"CHOOSE($B$2,'K28'!I29,'K7'!H29,'K3'!H29)","v":0.69188649303316829},25.599800242227225,null,null,null,null,null,null,null,{"$f":"+IF(Taul1!H46=\"\",0,Taul1!H46)","v":0},{"$f":"+Taul1!I46","v":0},{"$f":"+Taul1!$I$16","v":0}]
[{"$f":"CHOOSE($B$2,'K28'!A30,'K7'!A30,'K3'!A30)","v":2.1666666666666665},{"$f":"CHOOSE($B$2,'K28'!I30,'K7'!H30,'K3'!H30)","v":0.70372598813702425},26.037861561069896,null,null,null,null,null,null,null,{"$f":"+IF(Taul1!H47=\"\",0,Taul1!H47)","v":0},{"$f":"+Taul1!I47","v":0},{"$f":"+Taul1!$I$16","v":0}]
[{"$f":"CHOOSE($B$2,'K28'!A31,'K7'!A31,'K3'!A31)","v":2.25},{"$f":"CHOOSE($B$2,'K28'!I31,'K7'!H31,'K3'!H31)","v":0.71499696234661181},26.454887606824638,null,null,null,null,null,null,null,{"$f":"+IF(Taul1!H48=\"\",0,Taul1!H48)","v":0},{"$f":"+Taul1!I48","v":0},{"$f":"+Taul1!$I$16","v":0}]
[{"$f":"CHOOSE($B$2,'K28'!A32,'K7'!A32,'K3'!A32)","v":2.3333333333333335},{"$f":"CHOOSE($B$2,'K28'!I32,'K7'!H32,'K3'!H32)","v":0.72574529630607554},26.852575963324796,null,null,null,null,null,null,null,{"$f":"+IF(Taul1!H49=\"\",0,Taul1!H49)","v":0},{"$f":"+Taul1!I49","v":0},{"$f":"+Taul1!$I$16","v":0}]
[{"$f":"CHOOSE($B$2,'K28'!A33,'K7'!A33,'K3'!A33)","v":2.4166666666666665},{"$f":"CHOOSE($B$2,'K28'!I33,'K7'!H33,'K3'!H33)","v":0.73601174506908773},27.232434567556247,null,null,null,null,null,null,null,{"$f":"+IF(Taul1!H50=\"\",0,Taul1!H50)","v":0},{"$f":"+Taul1!I50","v":0},{"$f":"+Taul1!$I$16","v":0}]
[{"$f":"CHOOSE($B$2,'K28'!A34,'K7'!A34,'K3'!A34)","v":2.5},{"$f":"CHOOSE($B$2,'K28'!I34,'K7'!H34,'K3'!H34)","v":0.74583266007317761},27.59580842270757,null,null,null,null,null,null,null,{"$f":"+IF(Taul1!H51=\"\",0,Taul1!H51)","v":0},{"$f":"+Taul1!I51","v":0},{"$f":"+Taul1!$I$16","v":0}]
[{"$f":"CHOOSE($B$2,'K28'!A35,'K7'!A35,'K3'!A35)","v":2.5833333333333335},{"$f":"CHOOSE($B$2,'K28'!I35,'K7'!H35,'K3'!H35)","v":0.75524058972120556},27.943901819684605,null,null,null,null,null,null,null,{"$f":"+IF(Taul1!H52=\"\",0,Taul1!H52)","v":0},{"$f":"+Taul1!I52","v":0},{"$f":"+Taul1!$I$16","v":0}]
[{"$f":"CHOOSE($B$2,'K28'!A36,'K7'!A36,'K3'!A36)","v":2.6666666666666665},{"$f":"CHOOSE($B$2,'K28'!I36,'K7'!H36,'K3'!H36)","v":0.76426478207746962},28.277796936866377,null,null,null,null,null,null,null,{"$f":"+IF(Taul1!H53=\"\",0,Taul1!H53)","v":0},{"$f":"+Taul1!I53","v":0},{"$f":"+Taul1!$I$16","v":0}]
[{"$f":"CHOOSE($B$2,'K28'!A37,'K7'!A37,'K3'!A37)","v":2.75},{"$f":"CHOOSE($B$2,'K28'!I37,'K7'!H37,'K3'!H37)","v":0.77293160807346695},28.598469498718277,null,null,null,null,null,null,null,{"$f":"+IF(Taul1!H54=\"\",0,Taul1!H54)","v":0},{"$f":"+Taul1!I54","v":0},{"$f":"+Taul1!$I$16","v":0}]
[{"$f":"CHOOSE($B$2,'K28'!A38,'K7'!A38,'K3'!A38)","v":2.8333333333333335},{"$f":"CHOOSE($B$2,'K28'!I38,'K7'!H38,'K3'!H38)","v":0.78126491973156786},28.906802030068011,null,null,null,null,null,null,null,{"$f":"+IF(Taul1!H55=\"\",0,Taul1!H55)","v":0},{"$f":"+Taul1!I55","v":0},{"$f":"+Taul1!$I$16","v":0}]
[{"$f":"CHOOSE($B$2,'K28'!A39,'K7'!A39,'K3'!A39)","v":2.9166666666666665},{"$f":"CHOOSE($B$2,'K28'!I39,'K7'!H39,'K3'!H39)","v":0.789286354934437},29.203595132574169,null,null,null,null,null,null,null,{"$f":"+IF(Taul1!H56=\"\",0,Taul1!H56)","v":0},{"$f":"+Taul1!I56","v":0},{"$f":"+Taul1!$I$16","v":0}]
[{"$f":"CHOOSE($B$2,'K28'!A40,'K7'!A40,'K3'!A40)","v":3},{"$f":"CHOOSE($B$2,'K28'!I40,'K7'!H40,'K3'!H40)","v":0.79701559796405164},29.489577124669911,null,null,null,null,null,null,null,{"$f":"+IF(Taul1!H57=\"\",0,Taul1!H57)","v":0},{"$f":"+Taul1!I57","v":0},{"$f":"+Taul1!$I$16","v":0}]
[{"$f":"CHOOSE($B$2,'K28'!A41,'K7'!A41,'K3'!A41)","v":3.0833333333333335},{"$f":"CHOOSE($B$2,'K28'!I41,'K7'!H41,'K3'!H41)","v":0.80447060323936792},29.765412319856612,null,null,null,null,null,null,null,{"$f":"+IF(Taul1!H58=\"\",0,Taul1!H58)","v":0},{"$f":"+Taul1!I58","v":0},{"$f":"+Taul1!$I$16","v":0}]
[{"$f":"CHOOSE($B$2,'K28'!A42,'K7'!A42,'K3'!A42)","v":3.1666666666666665},{"$f":"CHOOSE($B$2,'K28'!I42,'K7'!H42,'K3'!H42)","v":0.81166778827346342},30.031708166118147,null,null,null,null,null,null,null,{"$f":"+IF(Taul1!H59=\"\",0,Taul1!H59)","v":0},{"$f":"+Taul1!I59","v":0},{"$f":"+Taul1!$I$16","v":0}]
[{"$f":"CHOOSE($B$2,'K28'!A43,'K7'!A43,'K3'!A43)","v":3.25},{"$f":"CHOOSE($B$2,'K28'!I43,'K7'!H43,'K3'!H43)","v":0.81862220075843173},30.289021428061975,null,null,null,null,null,null,null,{"$f":"+IF(Taul1!H60=\"\",0,Taul1!H60)","v":0},{"$f":"+Taul1!I60","v":0},{"$f":"+Taul1!$I$16","v":0}]
[{"$f":"CHOOSE($B$2,'K28'!A44,'K7'!A44,'K3'!A44)","v":3.3333333333333335},{"$f":"CHOOSE($B$2,'K28'!I44,'K7'!H44,'K3'!H44)","v":0.8253476638016719},30.537863560661862,null,null,null,null,null,null,null,{"$f":"+IF(Taul1!H61=\"\",0,Taul1!H61)","v":0},{"$f":"+Taul1!I61","v":0},{"$f":"+Taul1!$I$16","v":0}]
[{"$f":"CHOOSE($B$2,'K28'!A45,'K7'!A45,'K3'!A45)","v":3.4166666666666665},{"$f":"CHOOSE($B$2,'K28'!I45,'K7'!H45,'K3'!H45)","v":0.83185690262946166},30.778705397290082,null,null,null,null,null,null,null,{"$f":"+IF(Taul1!H62=\"\",0,Taul1!H62)","v":0},{"$f":"+Taul1!I62","v":0},{"$f":"+Taul1!$I$16","v":0}]
[{"$f":"CHOOSE($B$2,'K28'!A46,'K7'!A46,'K3'!A46)","v":3.5},{"$f":"CHOOSE($B$2,'K28'!I46,'K7'!H46,'K3'!H46)","v":0.83816165550414934},31.011981253653527,null,null,null,null,null,null,null,{"$f":"+IF(Taul1!H63=\"\",0,Taul1!H63)","v":0},{"$f":"+Taul1!I63","v":0},{"$f":"+Taul1!$I$16","v":0}]
[{"$f":"CHOOSE($B$2,'K28'!A47,'K7'!A47,'K3'!A47)","v":3.5833333333333335},{"$f":"CHOOSE($B$2,'K28'!I47,'K7'!H47,'K3'!H47)","v":0.84427277114042154},31.238092532195598,null,null,null,null,null,null,null,{"$f":"+IF(Taul1!H64=\"\",0,Taul1!H64)","v":0},{"$f":"+Taul1!I64","v":0},{"$f":"+Taul1!$I$16","v":0}]
[{"$f":"CHOOSE($B$2,'K28'!A48,'K7'!A48,'K3'!A48)","v":3.6666666666666665},{"$f":"CHOOSE($B$2,'K28'!I48,'K7'!H48,'K3'!H48)","v":0.85020029453120038},31.457410897654412,null,null,null,null,null,null,null,{"$f":"+IF(Taul1!H65=\"\",0,Taul1!H65)","v":0},{"$f":"+Taul1!I65","v":0},{"$f":"+Taul1!$I$16","v":0}]
[{"$f":"CHOOSE($B$2,'K28'!A49,'K7'!A49,'K3'!A49)","v":3.75},{"$f":"CHOOSE($B$2,'K28'!I49,'K7'!H49,'K3'!H49)","v":0.85595354278719105},31.670281083126067,null,null,null,null,null,null,null,{"$f":"+IF(Taul1!H66=\"\",0,Taul1!H66)","v":0},{"$f":"+Taul1!I66","v":0},{"$f":"+Taul1!$I$16","v":0}]
[{"$f":"CHOOSE($B$2,'K28'!A50,'K7'!A50,'K3'!A50)","v":3.8333333333333335},{"$f":"CHOOSE($B$2,'K28'!I50,'K7'!H50,'K3'!H50)","v":0.86154117234232974},31.877023376666202,null,null,null,null,null,null,null,{"$f":"+IF(Taul1!H67=\"\",0,Taul1!H67)","v":0},{"$f":"+Taul1!I67","v":0},{"$f":"+Taul1!$I$16","v":0}]
[{"$f":"CHOOSE($B$2,'K28'!A51,'K7'!A51,'K3'!A51)","v":3.9166666666666665},{"$f":"CHOOSE($B$2,'K28'!I51,'K7'!H51,'K3'!H51)","v":0.86697123866956993},32.077935830774088,null,null,null,null,null,null,null,{"$f":"+IF(Taul1!H68=\"\",0,Taul1!H68)","v":0},{"$f":"+Taul1!I68","v":0},{"$f":"+Taul1!$I$16","v":0}]
[{"$f":"CHOOSE($B$2,'K28'!A52,'K7'!A52,'K3'!A52)","v":4},{"$f":"CHOOSE($B$2,'K28'!I52,'K7'!H52,'K3'!H52)","v":0.87225124947922617},32.273296230731368,null,null,null,null,null,null,null,{"$f":"+IF(Taul1!H69=\"\",0,Taul1!H69)","v":0},{"$f":"+Taul1!I69","v":0},{"$f":"+Taul1!$I$16","v":0}]
[{"$f":"CHOOSE($B$2,'K28'!A53,'K7'!A53,'K3'!A53)","v":4.083333333333333},{"$f":"CHOOSE($B$2,'K28'!I53,'K7'!H53,'K3'!H53)","v":0.87738821222875329},32.463363852463871,null,null,null,null,null,null,null,{"$f":"+IF(Taul1!H70=\"\",0,Taul1!H70)","v":0},{"$f":"+Taul1!I70","v":0},{"$f":"+Taul1!$I$16","v":0}]
[{"$f":"CHOOSE($B$2,'K28'!A54,'K7'!A54,'K3'!A54)","v":4.166666666666667},{"$f":"CHOOSE($B$2,'K28'!I54,'K7'!H54,'K3'!H54)","v":0.88238867665304588},32.648381036162696,null,null,null,null,null,null,null,{"$f":"+IF(Taul1!H71=\"\",0,Taul1!H71)","v":0},{"$f":"+Taul1!I71","v":0},{"$f":"+Taul1!$I$16","v":0}]
[{"$f":"CHOOSE($B$2,'K28'!A55,'K7'!A55,'K3'!A55)","v":4.25},{"$f":"CHOOSE($B$2,'K28'!I55,'K7'!H55,'K3'!H55)","v":0.88725877292387434},32.828574598183351,null,null,null,null,null,null,null,{"$f":"+IF(Taul1!H72=\"\",0,Taul1!H72)","v":0},{"$f":"+Taul1!I72","v":0},{"$f":"+Taul1!$I$16","v":0}]
[{"$f":"CHOOSE($B$2,'K28'!A56,'K7'!A56,'K3'!A56)","v":4.333333333333333},{"$f":"CHOOSE($B$2,'K28'!I56,'K7'!H56,'K3'!H56)","v":0.89200424596247485},33.004157100611572,null,null,null,null,null,null,null,{"$f":"+IF(Taul1!H73=\"\",0,Taul1!H73)","v":0},{"$f":"+Taul1!I73","v":0},{"$f":"+Taul1!$I$16","v":0}]
[{"$f":"CHOOSE($B$2,'K28'!A57,'K7'!A57,'K3'!A57)","v":4.416666666666667},{"$f":"CHOOSE($B$2,'K28'!I57,'K7'!H57,'K3'!H57)","v":0.89663048635784492},33.175327995240259,null,null,null,null,null,null,null,{"$f":"+IF(Taul1!H74=\"\",0,Taul1!H74)","v":0},{"$f":"+Taul1!I74","v":0},{"$f":"+Taul1!$I$16","v":0}]
[{"$f":"CHOOSE($B$2,'K28'!A58,'K7'!A58,'K3'!A58)","v":4.5},{"$f":"CHOOSE($B$2,'K28'!I58,'K7'!H58,'K3'!H58)","v":0.90114255828270973},33.342274656460262,null,null,null,null,null,null,null,{"$f":"+IF(Taul1!H75=\"\",0,Taul1!H75)","v":0},{"$f":"+Taul1!I75","v":0},{"$f":"+Taul1!$I$16","v":0}]
[{"$f":"CHOOSE($B$2,'K28'!A59,'K7'!A59,'K3'!A59)","v":4.583333333333333},{"$f":"CHOOSE($B$2,'K28'!I59,'K7'!H59,'K3'!H59)","v":0.90554522474759835},33.505173315661139,null,null,null,null,null,null,null,{"$f":"+IF(Taul1!H76=\"\",0,Taul1!H76)","v":0},{"$f":"+Taul1!I76","v":0},{"$f":"+Taul1!$I$16","v":0}]
[{"$f":"CHOOSE($B$2,'K28'!A60,'K7'!A60,'K3'!A60)","v":4.666666666666667},{"$f":"CHOOSE($B$2,'K28'!I60,'K7'!H60,'K3'!H60)","v":0.90984297048950713},33.664189908111766,null,null,null,null,null,null,null,{"$f":"+IF(Taul1!H77=\"\",0,Taul1!H77)","v":0},{"$f":"+Taul1!I77","v":0},{"$f":"+Taul1!$I$16","v":0}]
[{"$f":"CHOOSE($B$2,'K28'!A61,'K7'!A61,'K3'!A61)","v":4.75},{"$f":"CHOOSE($B$2,'K28'!I61,'K7'!H61,'K3'!H61)","v":0.91404002275402008},33.819480841898745,null,null,null,null,null,null,null,{"$f":"+IF(Taul1!H78=\"\",0,Taul1!H78)","v":0},{"$f":"+Taul1!I78","v":0},{"$f":"+Taul1!$I$16","v":0}]
[{"$f":"CHOOSE($B$2,'K28'!A62,'K7'!A62,'K3'!A62)","v":4.833333333333333},{"$f":"CHOOSE($B$2,'K28'!I62,'K7'!H62,'K3'!H62)","v":0.91814037019746997},33.97119369730639,null,null,null,null,null,null,null,{"$f":"+IF(Taul1!H79=\"\",0,Taul1!H79)","v":0},{"$f":"+Taul1!I79","v":0},{"$f":"+Taul1!$I$16","v":0}]
[{"$f":"CHOOSE($B$2,'K28'!A63,'K7'!A63,'K3'!A63)","v":4.916666666666667},{"$f":"CHOOSE($B$2,'K28'!I63,'K7'!H63,'K3'!H63)","v":0.92214778010794729},34.119467863994046,null,null,null,null,null,null,null,{"$f":"+IF(Taul1!H80=\"\",0,Taul1!H80)","v":0},{"$f":"+Taul1!I80","v":0},{"$f":"+Taul1!$I$16","v":0}]
[{"$f":"CHOOSE($B$2,'K28'!A64,'K7'!A64,'K3'!A64)","v":5},{"$f":"CHOOSE($B$2,'K28'!I64,'K7'!H64,'K3'!H64)","v":0.92606581412000211},34.264435122440076,null,null,null,null,null,null,null,{"$f":"+IF(Taul1!H81=\"\",0,Taul1!H81)","v":0},{"$f":"+Taul1!I81","v":0},{"$f":"+Taul1!$I$16","v":0}]
[{"$f":"CHOOSE($B$2,'K28'!A65,'K7'!A65,'K3'!A65)","v":5.083333333333333},{"$f":"CHOOSE($B$2,'K28'!I65,'K7'!H65,'K3'!H65)","v":0.92989784257713692},34.406220175354065,null,null,null,null,null,null,null,{"$f":"+IF(Taul1!H82=\"\",0,Taul1!H82)","v":0},{"$f":"+Taul1!I82","v":0},{"$f":"+Taul1!$I$16","v":0}]
[{"$f":"CHOOSE($B$2,'K28'!A66,'K7'!A66,'K3'!A66)","v":5.166666666666667},{"$f":"CHOOSE($B$2,'K28'!I66,'K7'!H66,'K3'!H66)","v":0.9336470576782171},34.544941134094032,null,null,null,null,null,null,null,{"$f":"+IF(Taul1!H83=\"\",0,Taul1!H83)","v":0},{"$f":"+Taul1!I83","v":0},{"$f":"+Taul1!$I$16","v":0}]
[{"$f":"CHOOSE($B$2,'K28'!A67,'K7'!A67,'K3'!A67)","v":5.25},{"$f":"CHOOSE($B$2,'K28'!I67,'K7'!H67,'K3'!H67)","v":0.93731648552828606},34.680709964546587,null,null,null,null,null,null,null,{"$f":"+IF(Taul1!H84=\"\",0,Taul1!H84)","v":0},{"$f":"+Taul1!I84","v":0},{"$f":"+Taul1!$I$16","v":0}]
[{"$f":"CHOOSE($B$2,'K28'!A68,'K7'!A68,'K3'!A68)","v":5.333333333333333},{"$f":"CHOOSE($B$2,'K28'!I68,'K7'!H68,'K3'!H68)","v":0.9409089972006468},34.813632896423933,null,null,null,null,null,null,null,{"$f":"+IF(Taul1!H85=\"\",0,Taul1!H85)","v":0},{"$f":"+Taul1!I85","v":0},{"$f":"+Taul1!$I$16","v":0}]
[{"$f":"CHOOSE($B$2,'K28'!A69,'K7'!A69,'K3'!A69)","v":5.416666666666667},{"$f":"CHOOSE($B$2,'K28'!I69,'K7'!H69,'K3'!H69)","v":0.94442731890518417},{"$f":"+B70*$C$3","v":34.943810799491814},null,null,null,null,null,null,null,{"$f":"+IF(Taul1!H86=\"\",0,Taul1!H86)","v":0},{"$f":"+Taul1!I86","v":0},{"$f":"+Taul1!$I$16","v":0}]
[{"$f":"CHOOSE($B$2,'K28'!A70,'K7'!A70,'K3'!A70)","v":5.5},{"$f":"CHOOSE($B$2,'K28'!I70,'K7'!H70,'K3'!H70)","v":0.94787404134747189},35.071339529856459,null,null,null,null,null,null,null,{"$f":"+IF(Taul1!H87=\"\",0,Taul1!H87)","v":0},{"$f":"+Taul1!I87","v":0},{"$f":"+Taul1!$I$16","v":0}]
[{"$f":"CHOOSE($B$2,'K28'!A71,'K7'!A71,'K3'!A71)","v":5.583333333333333},{"$f":"CHOOSE($B$2,'K28'!I71,'K7'!H71,'K3'!H71)","v":0.95125162835409505},35.196310249101515,null,null,null,null,null,null,null,{"$f":"+IF(Taul1!H88=\"\",0,Taul1!H88)","v":0},{"$f":"+Taul1!I88","v":0},{"$f":"+Taul1!$I$16","v":0}]
[{"$f":"CHOOSE($B$2,'K28'!A72,'K7'!A72,'K3'!A72)","v":5.666666666666667},{"$f":"CHOOSE($B$2,'K28'!I72,'K7'!H72,'K3'!H72)","v":0.95456242483156717},35.318809718767987,null,null,null,null,null,null,null,{"$f":"+IF(Taul1!H89=\"\",0,Taul1!H89)","v":0},{"$f":"+Taul1!I89","v":0},{"$f":"+Taul1!$I$16","v":0}]
[{"$f":"CHOOSE($B$2,'K28'!A73,'K7'!A73,'K3'!A73)","v":5.75},{"$f":"CHOOSE($B$2,'K28'!I73,'K7'!H73,'K3'!H73)","v":0.95780866411917132},35.438920572409337,null,null,null,null,null,null,null,{"$f":"+IF(Taul1!H90=\"\",0,Taul1!H90)","v":0},{"$f":"+Taul1!I90","v":0},{"$f":"+Taul1!$I$16","v":0}]
[{"$f":"CHOOSE($B$2,'K28'!A74,'K7'!A74,'K3'!A74)","v":5.833333333333333},{"$f":"CHOOSE($B$2,'K28'!I74,'K7'!H74,'K3'!H74)","v":0.9609924747898041},35.556721567222752,null,null,null,null,null,null,null,{"$f":"+IF(Taul1!H91=\"\",0,Taul1!H91)","v":0},{"$f":"+Taul1!I91","v":0},{"$f":"+Taul1!$I$16","v":0}]
[{"$f":"CHOOSE($B$2,'K28'!A75,'K7'!A75,'K3'!A75)","v":5.916666666666667},{"$f":"CHOOSE($B$2,'K28'!I75,'K7'!H75,'K3'!H75)","v":0.96411588694738881},35.672287817053387,null,null,null,null,null,null,null,{"$f":"+IF(Taul1!H92=\"\",0,Taul1!H92)","v":0},{"$f":"+Taul1!I92","v":0},{"$f":"+Taul1!$I$16","v":0}]
[{"$f":"CHOOSE($B$2,'K28'!A76,'K7'!A76,'K3'!A76)","v":6},{"$f":"CHOOSE($B$2,'K28'!I76,'K7'!H76,'K3'!H76)","v":0.96718083806454336},35.785691008388106,null,null,null,null,null,null,null,{"$f":"+IF(Taul1!H93=\"\",0,Taul1!H93)","v":0},{"$f":"+Taul1!I93","v":0},{"$f":"+Taul1!$I$16","v":0}]
[{"$f":"CHOOSE($B$2,'K28'!A77,'K7'!A77,'K3'!A77)","v":6.083333333333333},{"$f":"CHOOSE($B$2,'K28'!I77,'K7'!H77,'K3'!H77)","v":0.97018917839985019},35.896999600794459,null,null,null,null,null,null,null,{"$f":"+IF(Taul1!H94=\"\",0,Taul1!H94)","v":0},{"$f":"+Taul1!I94","v":0},{"$f":"+Taul1!$I$16","v":0}]
[{"$f":"CHOOSE($B$2,'K28'!A78,'K7'!A78,'K3'!A78)","v":6.166666666666667},{"$f":"CHOOSE($B$2,'K28'!I78,'K7'!H78,'K3'!H78)","v":0.97314267603022875},36.006279013118466,null,null,null,null,null,null,null,{"$f":"+IF(Taul1!H95=\"\",0,Taul1!H95)","v":0},{"$f":"+Taul1!I95","v":0},{"$f":"+Taul1!$I$16","v":0}]
[{"$f":"CHOOSE($B$2,'K28'!A79,'K7'!A79,'K3'!A79)","v":6.25},{"$f":"CHOOSE($B$2,'K28'!I79,'K7'!H79,'K3'!H79)","v":0.97604302153048061},36.11359179662778,null,null,null,null,null,null,null,{"$f":"+IF(Taul1!H96=\"\",0,Taul1!H96)","v":0},{"$f":"+Taul1!I96","v":0},{"$f":"+Taul1!$I$16","v":0}]
[{"$f":"CHOOSE($B$2,'K28'!A80,'K7'!A80,'K3'!A80)","v":6.333333333333333},{"$f":"CHOOSE($B$2,'K28'!I80,'K7'!H80,'K3'!H80)","v":0.97889183232902366},36.218997796173873,null,null,null,null,null,null,null,{"$f":"+IF(Taul1!H97=\"\",0,Taul1!H97)","v":0},{"$f":"+Taul1!I97","v":0},{"$f":"+Taul1!$I$16","v":0}]
[{"$f":"CHOOSE($B$2,'K28'!A81,'K7'!A81,'K3'!A81)","v":6.416666666666667},{"$f":"CHOOSE($B$2,'K28'!I81,'K7'!H81,'K3'!H81)","v":0.98169065676609835},36.322554300345637,null,null,null,null,null,null,null,{"$f":"+IF(Taul1!H98=\"\",0,Taul1!H98)","v":0},{"$f":"+Taul1!I98","v":0},{"$f":"+Taul1!$I$16","v":0}]
[{"$f":"CHOOSE($B$2,'K28'!A82,'K7'!A82,'K3'!A82)","v":6.5},{"$f":"CHOOSE($B$2,'K28'!I82,'K7'!H82,'K3'!H82)","v":0.98444097787828955},36.424316181496714,null,null,null,null,null,null,null,{"$f":"+IF(Taul1!H99=\"\",0,Taul1!H99)","v":0},{"$f":"+Taul1!I99","v":0},{"$f":"+Taul1!$I$16","v":0}]
[{"$f":"CHOOSE($B$2,'K28'!A83,'K7'!A83,'K3'!A83)","v":6.583333333333333},{"$f":"CHOOSE($B$2,'K28'!I83,'K7'!H83,'K3'!H83)","v":0.98714421693102727},36.524336026448012,null,null,null,null,null,null,null,{"$f":"+IF(Taul1!H100=\"\",0,Taul1!H100)","v":0},{"$f":"+Taul1!I100","v":0},{"$f":"+Taul1!$I$16","v":0}]
[{"$f":"CHOOSE($B$2,'K28'!A84,'K7'!A84,'K3'!A84)","v":6.666666666666667},{"$f":"CHOOSE($B$2,'K28'!I84,'K7'!H84,'K3'!H84)","v":0.98980173671875293},36.622664258593858,null,null,null,null,null,null,null,{"$f":"+IF(Taul1!H101=\"\",0,Taul1!H101)","v":0},{"$f":"+Taul1!I101","v":0},{"$f":"+Taul1!$I$16","v":0}]
[{"$f":"CHOOSE($B$2,'K28'!A85,'K7'!A85,'K3'!A85)","v":6.75},{"$f":"CHOOSE($B$2,'K28'!I85,'K7'!H85,'K3'!H85)","v":0.99241484465069563},36.719349252075737,null,null,null,null,null,null,null,{"$f":"+IF(Taul1!H102=\"\",0,Taul1!H102)","v":0},{"$f":"+Taul1!I102","v":0},{"$f":"+Taul1!$I$16","v":0}]
[{"$f":"CHOOSE($B$2,'K28'!A86,'K7'!A86,'K3'!A86)","v":6.833333333333333},{"$f":"CHOOSE($B$2,'K28'!I86,'K7'!H86,'K3'!H86)","v":0.99498479563860009},36.814437438628204,null,null,null,null,null,null,null,{"$f":"+IF(Taul1!H103=\"\",0,Taul1!H103)","v":0},{"$f":"+Taul1!I103","v":0},{"$f":"+Taul1!$I$16","v":0}]
[{"$f":"CHOOSE($B$2,'K28'!A87,'K7'!A87,'K3'!A87)","v":6.916666666666667},{"$f":"CHOOSE($B$2,'K28'!I87,'K7'!H87,'K3'!H87)","v":0.9975127948013327},36.907973407649308,null,null,null,null,null,null,null,{"$f":"+IF(Taul1!H104=\"\",0,Taul1!H104)","v":0},{"$f":"+Taul1!I104","v":0},{"$f":"+Taul1!$I$16","v":0}]
[{"$f":"CHOOSE($B$2,'K28'!A88,'K7'!A88,'K3'!A88)","v":7},{"$f":"CHOOSE($B$2,'K28'!I88,'K7'!H88,'K3'!H88)","v":1},37,null,null,null,null,null,null,null,{"$f":"+IF(Taul1!H105=\"\",0,Taul1!H105)","v":0},{"$f":"+Taul1!I105","v":0},{"$f":"+Taul1!$I$16","v":0}]
[{"$f":"CHOOSE($B$2,'K28'!A89,'K7'!A89,'K3'!A89)","v":100},{"$f":"CHOOSE($B$2,'K28'!I89,'K7'!H89,'K3'!H89)","v":1},37,null,null,null,null,null,null,null,{"$f":"+IF(Taul1!H106=\"\",0,Taul1!H106)","v":0},{"$f":"+Taul1!I106","v":0},{"$f":"+Taul1!$I$16","v":0}]

{"sheet":"K28","index":3,"n_rows":89,"n_cols":9,"rows_kept":89,"cut":false,"hidden":false,"merged":[]}
[null,null,null,null,null,null,null,null,{"$f":"+Taul1!M4","v":3}]
["Normaalisti kovettuva betoni","Suhteellinen lujuus (Kt/K28)"]
["Kypsyysikä (d)","C40/50","C35/45","C30/37","C25/30","C20/25","C16/20"]
[3.4720833333333335E-3,0,0,0,0,0,0,null,{"$f":"CHOOSE($I$1,B4,C4,D4,E4,F4,G4,H4)","v":0}]
[4.1666666666666664E-2,0,0,0,0,0,0,null,{"$f":"CHOOSE($I$1,B5,C5,D5,E5,F5,G5,H5)","v":0}]
[8.3333333333333329E-2,0,0,0,0,0,0,null,0]
[0.125,0,0,0,0,0,0,null,0]
[0.16666666666666666,0,0,0,0,0,0,null,0]
[0.20833333333333334,0,0,0,0,0,0,null,0]
[0.25,0,0,0,0,0,0,null,0]
[0.29166666666666669,6.5888178433641347E-4,2.0480670142234904E-6,0,0,0,0,null,0]
[0.33333333333333331,6.5207019209238713E-3,1.2872910210024937E-3,1.0527617789607988E-7,0,0,0,null,1.0527617789607988E-7]
[0.375,1.7601603276195966E-2,6.8456192728358961E-3,4.0191655549110347E-4,2.3478835989074458E-12,0,0,null,4.0191655549110347E-4]
[0.41666666666666669,3.1656893750023909E-2,1.6103928915378627E-2,2.973256165125459E-3,6.2563207854567221E-5,6.0179172474958713E-11,0,null,2.973256165125459E-3]
[0.45833333333333331,4.7167989394353363E-2,2.7678090622484375E-2,8.1736796506709092E-3,9.2992267214308524E-4,3.4767723484189503E-5,3.893992727530535E-21,null,8.1736796506709092E-3]
[0.5,6.3258991925068744E-2,4.0560658778665735E-2,1.5447278503962601E-2,3.3527144730181079E-3,5.3475877764518846E-4,4.0779251211230005E-6,null,1.5447278503962601E-2]
[0.54166666666666663,7.9433557632086746E-2,5.4108365186808664E-2,2.416944989360606E-2,7.3587465568467816E-3,2.0496276215515204E-3,1.5130097177070193E-4,null,2.416944989360606E-2]
[0.58333333333333337,9.5410866324177321E-2,6.7919547608998779E-2,3.3850175256585138E-2,1.2687224709690713E-2,4.7265969489493839E-3,7.9638568873046766E-4,null,3.3850175256585138E-2]
[0.625,0.11103392840643746,8.1743794929946573E-2,4.4135470137267464E-2,1.9040562365335741E-2,8.4725465409812607E-3,2.1742582510583391E-3,null,4.4135470137267464E-2]
[0.66666666666666663,0.12621830636137019,9.5425201515336761E-2,5.4775399758412127E-2,2.615921673057868E-2,1.311898586074986E-2,4.3381297320051167E-3,null,5.4775399758412127E-2]
[0.70833333333333337,0.14092279380261605,0.1088676070605355,6.5594383433107445E-2,3.3834691797686875E-2,1.8492631715154889E-2,7.2415792509028911E-3,null,6.5594383433107445E-2]
[0.75,0.1551322194824214,0.12201314978581945,7.6469071129291577E-2,4.1904587287778169E-2,2.4439403820093471E-2,1.0798613572828348E-2,null,7.6469071129291577E-2]
[0.79166666666666663,0.16884712481069791,0.13482881903623117,8.7312795985559272E-2,5.0243888078752942E-2,3.082989351653271E-2,1.4914047597708018E-2,null,8.7312795985559272E-2]
[0.83333333333333337,0.18207744489734401,0.14729787241710099,9.8064807786002697E-2,5.8756728794257439E-2,3.7558142465908939E-2,1.9496957099828745E-2,null,9.8064807786002697E-2]
[0.875,0.19483858066112145,0.15941426464528693,0.10868280985959877,6.7369642509280653E-2,4.4538399149843158E-2,2.446581809240268E-2,null,0.10868280985959877]
[0.91666666666666663,0.20714893098589363,0.17117897685017769,0.11913774862882251,7.6026305446484893E-2,5.1701616851976391E-2,2.9749799110332015E-2,null,0.11913774862882251]
[0.95833333333333337,0.2190283335751943,0.18259756724516199,0.12941014123198075,8.4683528195422908E-2,5.8992301276989186E-2,3.5288375091635613E-2,null,0.12941014123198075]
[1,0.23049708045635919,0.19367852007730799,0.1394874610441815,9.3308218041759011E-2,6.6365863898415201E-2,4.1030289807139957E-2,null,0.1394874610441815]
[1.0416666666666667,0.24157530159780646,0.2044321242809243,0.149362258010035,0.10187507745431194,7.3786468780636577E-2,4.6932341705945131E-2,null,0.149362258010035]
[1.0833333333333333,0.25228258664898046,0.21486970834582456,0.15903079483912841,0.11036485485716382,8.122530635148846E-2,5.2958202987336597E-2,null,0.15903079483912841]
[1.125,0.26263776171616321,0.22500311752297275,0.16849204923891606,0.11876300882749835,8.8659218018174585E-2,5.9077355295590182E-2,null,0.16849204923891606]
[1.1666666666666667,0.2726587673618599,0.23484435752347368,0.17774697855716831,0.12705868239553353,9.6069602098159207E-2,6.5264166182930239E-2,null,0.17774697855716831]
[1.2083333333333333,0.28236260258964085,0.24440535353087514,0.18679797437401438,0.13524391093236324,0.10344154269854496,7.1497103859176306E-2,null,0.18679797437401438]
[1.25,0.29176531153450752,0.25369778958264638,0.19564845583406848,0.14331300693979607,0.11076311443333867,7.7758076908529969E-2,null,0.19564845583406848]
[1.2916666666666667,0.30088199737720489,0.26273300421247636,0.2043025651557113,0.15126207960786708,0.11802482568584236,8.4031882330880173E-2,null,0.2043025651557113]
[1.3333333333333333,0.30972685314378628,0.2715219255682107,0.21276493895847925,0.15908865766961053,0.12521917117118603,9.0305745375750243E-2,null,0.21276493895847925]
[1.375,0.31831320247612532,0.28007503422638724,0.22104053623259814,0.1667913919138912,0.13234027095219866,9.6568936176659112E-2,null,0.22104053623259814]
[1.4166666666666667,0.32665354575759176,0.28840234538223819,0.22913450888181769,0.17436981949150615,0.13938357806967738,0.10281245019395002,null,0.22913450888181769]
[1.4583333333333333,0.33475960853085246,0.29651340450497204,0.23705210443626898,0.18182417642976795,0.14634564083809476,0.10902874148578548,null,0.23705210443626898]
[1.5,0.34264239019870074,0.30441729224331926,0.24479859318652247,0.18915524796153038,0.15322390887044807,0.1152114996592422,null,0.24479859318652247]
[1.5416666666666667,0.35031221171622973,0.31212263556716824,0.25237921392844576,0.19636424866784191,0.16001657422876644,0.12135546294201188,null,0.25237921392844576]
[1.5833333333333333,0.35777876147141957,0.31963762298738668,0.25979913393517035,0.20345272623954164,0.1667224409059995,0.12745626115534872,null,0.25979913393517035]
[1.625,0.36505113888358109,0.32697002230997141,0.2670634198303109,0.21042248403454267,0.17334081725189041,0.13351028348161895,null,0.2670634198303109]
[1.6666666666666667,0.37213789547403864,0.33412719982311356,0.27417701682632056,0.217275518655177,0.17987142705311485,0.13951456683508648,null,0.27417701682632056]
[1.7083333333333333,0.37904707331427734,0.34111614013578895,0.28114473438525289,0.2240139695749245,0.18631433583764795,0.14546670139348888,null,0.28114473438525289]
[1.75,0.38578624085642726,0.34794346611860627,0.28797123680771108,0.23064007846584822,0.19266988964930093,0.15136475045910755,null,0.28797123680771108]
[1.7916666666666667,0.3923625262152009,0.35461545856631943,0.29466103759667095,0.23715615636127926,0.19893866407210584,0.15720718231629466,null,0.29466103759667095]
[1.8333333333333333,0.39878264801021118,0.36113807532402292,0.30121849670329759,0.2435645571656741,0.2051214217074179,0.16299281215873734,null,0.30121849670329759]
[1.875,0.40505294390060964,0.36751696970811681,0.30764781996178425,0.2498676563197508,0.21121907664353212,0.16872075249142529,null,0.30764781996178425]
[1.9166666666666667,0.41117939695552208,0.37375750811765823,0.31395306017436331,0.25606783366256408,0.21723266472696881,0.17439037068349553,null,0.31395306017436331]
[1.9583333333333333,0.41716766000756794,0.37986478677823404,0.32013811942692461,0.26216745971720135,0.22316331866077865,0.18000125257032104,null,0.32013811942692461]
[2,0.42302307813542567,0.38584364759380041,0.32620675230834018,0.26816888477397022,0.22901224712943591,0.18555317118566333,null,0.32620675230834018]
[2.3333333333333335,0.46563891548058944,0.42955965458320955,0.37096971653780508,0.31291506622635723,0.27302009220690926,0.22786211477039081,null,0.37096971653780508]
[2.6666666666666665,0.50208031882388793,0.46720635952152578,0.41003181677853412,0.35259456219512769,0.31257183770198588,0.26659877397637621,null,0.41003181677853412]
[3,0.53375989649768263,0.50011771372996805,0.44453900443217664,0.38808898715484436,0.34832023845453136,0.30210984907780475,null,0.44453900443217664]
[3.3333333333333335,0.56166952322541652,0.52924630969997599,0.47534147481393296,0.42009567575811801,0.38082521488213145,0.33476551907726987,null,0.47534147481393296]
[3.6666666666666665,0.58652956409030976,0.55529281063123526,0.50308208233505047,0.44916511689375987,0.41055104842635848,0.36490751800082299,null,0.50308208233505047]
[4,0.60887815191683492,0.57878588270877362,0.52825624684053474,0.47573509660725066,0.43787957006924966,0.39283587801414194,null,0.52825624684053474]
[4.333333333333333,0.62912694713867401,0.60013324662369705,0.55125255493609293,0.50015740986016943,0.46312527832895289,0.41880902230525929,null,0.55125255493609293]
[4.666666666666667,0.64759729375807695,0.61965534125665533,0.57238067827988393,0.52271789290468029,0.48654863212472244,0.4430481251299952,null,0.57238067827988393]
[5,0.66454443679704955,0.63760817161868077,0.59189092840713708,0.54365130770992121,0.50836685398875903,0.46574239666943001,null,0.59189092840713708]
[5.333333333333333,0.68017420649172611,0.65419921950774329,0.60998821544317761,0.56315243622264,0.52876246663209481,0.48705409744642691,null,0.60998821544317761]
[5.666666666666667,0.69465479855646528,0.66959877866211126,0.62684219455499068,0.58138441778532723,0.54788998010139933,0.50712291351582917,null,0.62684219455499068]
[6,0.7081252734647655,0.68394819544593366,0.64259476694685513,0.59848507905526072,0.56588113002593454,0.52606963982579924,null,0.64259476694685513]
[6.333333333333333,0.72070180678653128,0.69736596906160231,0.65736571201182159,0.61457179200620793,0.58284899773364063,0.54399923223156255,null,0.65736571201182159]
[6.666666666666667,0.73248236446699677,0.70995234093546367,0.67125697689007413,0.62974524254485964,0.59889127068970205,0.5610033204476621,null,0.67125697689007413]
[7,0.74355025359519666,0.72179279810769037,0.68435598630879102,0.64409238448260164,0.6140928407248184,0.57716227450575808,null,0.68435598630879102]
[7.333333333333333,0.75397685634516509,0.73296078304408108,0.69673822709818267,0.65768877786235513,0.6285278897429859,0.59254690660471965,null,0.69673822709818267]
[7.666666666666667,0.76382376126291773,0.74351981482679452,0.70846928851646063,0.67060045718999661,0.64226157630421932,0.60721987698996238,null,{"$f":"CHOOSE($I$1,B69,C69,D69,E69,F69,G69,H69)","v":0.70846928851646063}]
[8,0.77314444358279111,0.75352516776999379,0.71960648923081405,0.682885437114509,0.65535140924975455,0.62123685991863198,null,0.71960648923081405]
[8.3333333333333339,0.7819856037029127,0.76302521310911553,0.73020018675447673,0.69459493583110521,0.66784837418326848,0.63464751491804972,null,0.73020018675447673]
[8.6666666666666661,0.79038824346949688,0.772062501252606,0.7402948403608991,0.70577437672348542,0.67979786338738957,0.64749629959487676,null,0.7402948403608991]
[9,0.79838853917332664,0.78067464215735949,0.74992988074010336,0.71646421430388085,0.69124044830818632,0.65982315303225225,null,0.74992988074010336]
[9.3333333333333339,0.80601855534958311,0.78889502708993842,0.75914042677859173,0.72670061982692802,0.70221252509363352,0.67166407305237363,null,0.75914042677859173]
[9.6666666666666661,0.81330683275535398,0.79675342464265242,0.76795788038571844,0.73651605398491959,0.7127468571001605,0.68305160605035975,null,0.76795788038571844]
[10,0.82027887604955707,0.80427647622938647,0.77641042326926468,0.74593974809351449,0.72287303325375585,0.69401526448178541,null,0.77641042326926468]
[10.333333333333334,0.82695756088477856,0.8114881106012094,0.78452343429893889,0.75499811062193256,0.73261785728008411,0.70458188421199108,null,0.78452343429893889]
[10.666666666666666,0.83336347576659831,0.81840989265038522,0.79231984211132511,0.76371507243370429,0.74200567981614141,0.71477593165021036,null,0.79231984211132511]
[11,0.83951521074388746,0.82506131853108555,0.79982042456552993,0.77211238141200045,0.75105868307328782,0.72461976876929945,null,0.79982042456552993]
[11.333333333333334,0.84542960248134724,0.83146006664480976,0.80704406431352915,0.78020985505003893,0.75979712588153392,0.73413388265336943,null,0.80704406431352915]
[11.666666666666666,0.85112194333187774,0.83762221212396115,0.81400796792810737,0.7880255979473284,0.76823955549088097,0.74333708504365725,null,0.81400796792810737]
[12,0.85660616052595373,0.84356241095745588,0.82072785460650877,0.79557618985941558,0.77640299134945412,0.75224668640731296,null,0.82072785460650877]
[12.333333333333334,0.86189497042204477,0.84929405873466635,0.82721811934536593,0.80287684892244293,0.78430308515376068,0.76087864828750162,null,0.82721811934536593]
[12.666666666666666,0.86700001183833464,0.85482942806240614,0.83349197459207136,0.80994157385418575,0.7919542607231167,0.76924771706963235,null,0.83349197459207136]
[13,0.87193196175361354,0.86017978797739325,0.83956157366706474,0.81678326827480918,0.79936983664942995,0.77736754178894241,null,0.83956157366706474]
[13.333333333333334,0.87670063608088311,0.86535550809113615,0.84543811868081198,0.82341384975873588,0.80656213418534928,0.78525077818647093,null,0.84543811868081198]
[13.666666666666666,0.88131507774818718,0.87036614973329796,0.85113195520839224,0.8298443457971092,0.81354257243519457,0.79290918087589146,null,0.85113195520839224]
[14,0.88578363394253701,0.87522054597871513,0.8566526556104288,0.83608497849781571,0.82032175258610862,0.80035368519862582,null,0.8566526556104288]
[28,1,1,1,1,1,1,null,1]

{"sheet":"K7","index":4,"n_rows":89,"n_cols":8,"rows_kept":89,"cut":false,"hidden":false,"merged":[]}
[null,null,null,null,null,null,null,{"$f":"+Taul1!M4","v":3}]
["Nopeasti kovettuva betoni","Suhteellinen lujuus (Kt/K7)"]
["Kypsyysikä (d)","C40/50","C35/45","C30/37","C25/30","C20/25","C16/20"]
[3.4720833333333335E-3,0,0,0,0,0,0,{"$f":"CHOOSE($H$1,B4,C4,D4,E4,F4,G4)","v":0}]
[8.3333333333333329E-2,0,0,0,0,0,0,{"$f":"CHOOSE($H$1,B5,C5,D5,E5,F5,G5)","v":0}]
[0.16666666666666666,0,0,0,0,0,0,0]
[0.25,2.4815905562458346E-2,3.9534170992444502E-3,0,0,0,0,0]
[0.33333333333333331,0.13399119419203789,9.0175026776919423E-2,3.1512271444560057E-2,2.8180288898719584E-3,7.4014237699537462E-11,0,3.1512271444560057E-2]
[0.41666666666666669,0.22601751057450478,0.17972404461071928,0.10775154960784739,5.0620623719791695E-2,1.9244177301325324E-2,2.461500439390178E-3,0.10775154960784739]
[0.5,0.29866236068145663,0.25318957950668158,0.17895799122590153,0.11324790143497489,6.9056718332830155E-2,3.2129052730643273E-2,0.17895799122590153]
[0.58333333333333337,0.35748194639571057,0.31364559916092383,0.240274670616553,0.17211297499784187,0.12282267340817708,7.6442435147656668E-2,0.240274670616553]
[0.66666666666666663,0.40639418807760191,0.36439001649725661,0.2929763324895942,0.22475234440443603,0.17351622976649125,0.12261502101826377,0.2929763324895942]
[0.75,0.44796787280443201,0.40779367004192413,0.33873763669367163,0.27152573110557049,0.21984294158490289,0.16685459061275887,0.33873763669367163]
[0.83333333333333337,0.48393017885072598,0.44551472324183566,0.37893475046526787,0.31325061098072327,0.2619062721463486,0.20815507447043075,0.37893475046526787]
[0.91666666666666663,0.51548427048077572,0.47873377564172631,0.41462356242465898,0.35071522237856062,0.30014422542056768,0.24640168066836857,0.41462356242465898]
[1,0.54349639714488751,0.50831280697717529,0.44660904183250155,0.38458586441177328,0.33503530008770882,0.28177150376751497,0.44660904183250155]
[1.0833333333333333,0.5686083762009434,0.53489678165011434,0.47551079395113294,0.41540657486392141,0.36701624585849046,0.31452551052022654,0.47551079395113294]
[1.1666666666666667,0.59130756198405465,0.55897906572592815,0.50181242938846438,0.4436185684793002,0.39646412229025707,0.34493290285355543,0.50181242938846438]
[1.25,0.61197189598805157,0.58094448306136537,0.52589693254558934,0.46958082448683142,0.42369827495983181,0.37324423072384533,0.52589693254558934]
[1.3333333333333333,0.63089984514709996,0.60109836936336536,0.54807182981941105,0.49358747118637292,0.44898780011354339,0.39968338359318628,0.54807182981941105]
[1.4166666666666667,0.64833086708356169,0.61968665847124782,0.5685872350754273,0.51588152012588151,0.47255969614689797,0.42444697051189884,0.5685872350754273]
[1.5,0.6644597538787147,0.63691008374479396,0.58764895218915603,0.53666548256627755,0.49460619645190396,0.44770644767184159,0.58764895218915603]
[1.5833333333333333,0.67944691041770533,0.65293442551316072,0.60542812392711476,0.5561095378652644,0.51529093491617106,0.46961107500742399,0.60542812392711476]
[1.6666666666666667,0.69342586582006993,0.66789804290503041,0.62206843905512688,0.57435783603452084,0.53475398923985873,0.49029091692578725,0.62206843905512688]
[1.75,0.70650885995108448,0.68191750252569328,0.63769158951302041,0.59153339108800951,0.5531159622284626,0.50985958751652338,0.63769158951302041]
[1.8333333333333333,0.71879106415368221,0.69509184857330053,0.65240145594732413,0.60774190985496646,0.57048127562472595,0.52841664979098779,0.65240145594732413]
[1.9166666666666667,0.73035381558567702,0.70750588673230741,0.66628735657323235,0.62307481289854072,0.5869408321957873,0.5460496665961766,0.66628735657323235]
[2,0.74126712764640079,0.7192327410920073,0.67942659713958597,0.63761163813457533,0.60257417503005206,0.56283593501271434,0.67942659713958597]
[2.0833333333333335,0.75159166133888267,0.7303358676423275,0.69188649303316829,0.65142196909853456,0.6174512473773599,0.57884394628004765,0.69188649303316829]
[2.1666666666666665,0.76138028985447603,0.74087065631800486,0.70372598813702425,0.66456699417513454,0.63163383461032507,0.59413461324873496,0.70372598813702425]
[2.25,0.77067935245694597,0.75088571782728575,0.71499696234661181,0.67710077697908411,0.64517675233231109,0.60876230329423331,0.71499696234661181]
[2.3333333333333335,0.77952966839328663,0.76042392636288425,0.72574529630607554,0.68907129883624541,0.65812883083332152,0.62277570937246918,0.72574529630607554]
[2.4166666666666665,0.78796736354801866,0.76952327135690712,0.73601174506908773,0.70052132005933565,0.67053373532797755,0.63621858668829534,0.73601174506908773]
[2.5,0.79602454958640867,0.77821755847541774,0.74583266007317761,0.71148909607461885,0.68243065305916495,0.64913037776888038,0.74583266007317761]
[2.5833333333333335,0.80372988587187921,0.78653699056034998,0.75524058972120556,0.7220089764578147,0.69385487187653827,0.66154674472589292,0.75524058972120556]
[2.6666666666666665,0.81110904746255508,0.79450865220463485,0.76426478207746962,0.73211190887753552,0.70483826986923981,0.67350002414246712,0.76426478207746962]
[2.75,0.81818511728533339,0.80215691639456488,0.77293160807346695,0.74182586531810768,0.71540973171128952,0.68501961726314986,0.77293160807346695]
[2.8333333333333335,0.82497891666295742,0.80950378768660225,0.78126491973156786,0.75117620439515476,0.72559550430863995,0.69613232591018726,0.78126491973156786]
[2.9166666666666665,0.83150928538589652,0.81656919336185596,0.789286354934437,0.76018598082037647,0.73541950192264194,0.70686264271246857,0.789286354934437]
[3,0.83779332023142494,0.82337123167627491,0.79701559796405164,0.76887621092106662,0.74490356903623445,0.7172330027384558,0.79701559796405164]
[3.0833333333333335,0.84384657906104366,0.82992638452215672,0.80447060323936792,0.77726610143053454,0.75406770771293707,0.72726400240722311,0.80447060323936792]
[3.1666666666666665,0.84968325624633356,0.83624970040867319,0.81166778827346342,0.78537324743013581,0.76293027498787402,0.73697459055920178,0.81166778827346342]
[3.25,0.85531633408863839,0.84235495256145987,0.81862220075843173,0.79321380426141752,0.77150815485820878,0.74638223575707918,0.81862220075843173]
[3.3333333333333335,0.86075771404014523,0.84825477606394684,0.8253476638016719,0.80080263737702795,0.77981690865646258,0.75550307322263099,0.8253476638016719]
[3.4166666666666665,0.86601833085109869,0.85396078726368774,0.83185690262946166,0.80815345341523404,0.7878709069547859,0.76435203426898313,0.83185690262946166]
[3.5,0.8711082522210003,0.85948368810598141,0.83816165550414934,0.81527891522973273,0.79568344563081961,0.77294296063740076,0.83816165550414934]
[3.5833333333333335,0.87603676609106151,0.86483335760457658,0.84427277114042154,0.82219074315663465,0.80326684830244799,0.78128870577512777,0.84427277114042154]
[3.6666666666666665,0.88081245735830371,0.8700189322922296,0.85020029453120038,0.82889980443296785,0.81063255699090753,0.78940122478159602,0.85020029453120038]
[3.75,0.88544327550105617,0.87504887719466917,0.85595354278719105,0.8354161923792669,0.81779121258463483,0.7972916544928299,0.85595354278719105]
[3.8333333333333335,0.88993659436777295,0.8799310486263453,0.86154117234232974,0.84174929670996446,0.82475272643837838,0.80497038495874762,0.86154117234232974]
[3.9166666666666665,0.89429926518548852,0.88467274990453815,0.86697123866956993,0.84790786612916158,0.83152634424418348,0.81244712338773095,0.86697123866956993]
[4,0.89853766368268706,0.88928078091150997,0.87225124947922617,0.8539000641979082,0.83812070314559195,0.81973095148119079,0.87225124947922617]
[4.083333333333333,0.9026577320873107,0.89376148229580687,0.87738821222875329,0.85973351931596342,0.84454388292785187,0.8268303769529276,0.87738821222875329]
[4.166666666666667,0.90666501664898758,0.89812077498825671,0.88238867665304588,0.86541536954101272,0.85080345200038821,0.83375337991982768,0.88238867665304588]
[4.25,0.91056470124116062,0.90236419561147441,0.88725877292387434,0.87095230286735281,0.85690650878940222,0.84050745475855815,0.88725877292387434]
[4.333333333333333,0.91436163752040134,0.9064969282803983,0.89200424596247485,0.87635059350083633,0.86285971907515147,0.84709964794469195,0.89200424596247485]
[4.416666666666667,0.91806037205413171,0.91052383322284436,0.89663048635784492,0.88161613459466892,0.86866934973766374,0.85353659232393264,0.89663048635784492]
[4.5,0.92166517077211618,0.91444947259104969,0.90114255828270973,0.88675446784929146,0.87434129931431137,0.85982453820792915,0.90114255828270973]
[4.583333333333333,0.92518004104970608,0.9182781337859397,0.90554522474759835,0.89177081032727679,0.87988112572109078,0.86596938163810555,0.90554522474759835]
[4.666666666666667,0.92860875169048129,0.92201385057390406,0.90984297048950713,0.89667007878944149,0.88529407144524874,0.87197669011869217,0.90984297048950713]
[4.75,0.93195485104151077,0.92566042224003187,0.91404002275402008,0.90145691182002363,0.89058508647888279,0.87785172608370554,0.91404002275402008]
[4.833333333333333,0.93522168344496737,0.92922143099105969,0.91814037019746997,0.90613568997577953,0.89575884923039117,0.88359946833109337,0.91814037019746997]
[4.916666666666667,0.93841240420452054,0.93270025779488897,0.92214778010794729,0.91071055416543301,0.90081978562233389,0.88922463162993715,0.92214778010794729]
[5,0.94152999322312736,0.93610009682081086,0.92606581412000211,0.91518542244129897,0.9057720865597384,0.89473168468284159,0.92606581412000211]
[5.083333333333333,0.94457726745002801,0.93942396862492228,0.92989784257713692,0.91956400536360683,0.91061972393158908,0.90012486660495195,0.92989784257713692]
[5.166666666666667,0.94755689225845652,0.94267473220821807,0.9336470576782171,0.92384982007953231,0.91536646528969601,0.90540820206296924,0.9336470576782171]
[5.25,0.95047139186144158,0.94585509606006968,0.93731648552828606,0.92804620324281617,0.92001588733295847,0.91058551520173758,0.93731648552828606]
[5.333333333333333,0.953323158860785,0.94896762828694559,0.9409089972006468,0.93215632288578065,0.92457138831090058,0.91566044247211209,0.9409089972006468]
[5.416666666666667,0.95611446301357128,0.95201476591502199,0.94442731890518417,0.93618318934323952,0.92903619944795601,0.92063644446165416,{"$f":"CHOOSE($H$1,B69,C69,D69,E69,F69,G69)","v":0.94442731890518417}]
[5.5,0.95884745929121062,0.95499882344552256,0.94787404134747189,0.94012966531700903,0.93341339547910351,0.92551681681897591,0.94787404134747189]
[5.583333333333333,0.9615241952978083,0.95792200073304512,0.95125162835409505,0.94399847516024338,0.93770590437786805,0.9303047003531234,0.95125162835409505]
[5.666666666666667,0.96414661810745439,0.96078639024958556,0.95456242483156717,0.94779221345247378,0.94191651634927653,0.93500309038102769,0.95456242483156717]
[5.75,0.96671658057370735,0.96359398379034322,0.95780866411917132,0.95151335292887729,0.9460478921528892,0.93961484538866979,0.95780866411917132]
[5.833333333333333,0.96923584715896072,0.96634667867153934,0.9609924747898041,0.95516425182078812,0.9501025708144385,0.94414269506506354,0.9609924747898041]
[5.916666666666667,0.97170609932646979,0.96904628346532085,0.96411588694738881,0.95874716065872068,0.95408297677875997,0.94858924776232856,0.96411588694738881]
[6,0.97412894053345545,0.97169452331224926,0.96718083806454336,0.96226422858406213,0.9579914265515066,0.95295699742996276,0.96718083806454336]
[6.083333333333333,0.97650590085985178,0.9742930448478293,0.97018917839985019,0.96571750921105859,0.96183013487251834,0.95724833006680643,0.97018917839985019]
[6.166666666666667,0.97883844130384157,0.97684342077593611,0.97314267603022875,0.96910896607669084,0.9656012204596115,0.96146552973007671,0.97314267603022875]
[6.25,0.98112795777227779,0.97934715411879814,0.97604302153048061,0.97244047771243558,0.96930671135787716,0.96561078413717016,0.97604302153048061]
[6.333333333333333,0.98337578479138932,0.98180568217035047,0.97889183232902366,0.97571384236869874,0.97294854992629398,0.9696861898926441,0.97889183232902366]
[6.416666666666667,0.98558319896074431,0.9842203801772309,0.98169065676609835,0.97893078241984244,0.97652859749053811,0.97369375736982822,0.98169065676609835]
[6.5,0.98775142217129186,0.98659256476941526,0.98444097787828955,0.98209294847515505,0.98004863868822301,0.97763541527387499,0.98444097787828955]
[6.583333333333333,0.98988162460637374,0.98892349716046257,0.98714421693102727,0.98520192321881317,0.98351038553045622,0.98151301491066978,0.98714421693102727]
[6.666666666666667,0.99197492754286143,0.99121438613551416,0.98980173671875293,0.98825922499981123,0.9869154812014681,0.98532833418388155,0.98980173671875293]
[6.75,0.99403240596803166,0.99346639084355948,0.99241484465069563,0.99126631119098263,0.99026550361615551,0.98908308134049971,0.99241484465069563]
[6.833333333333333,0.99605509102639089,0.99568062340900831,0.99498479563860009,0.99422458133455605,0.99356196875366998,0.99277889848345824,0.99498479563860009]
[6.916666666666667,0.99804397230941044,0.9978581513762893,0.9975127948013327,0.99713538009018154,0.99680633378361161,0.99641736486837429,0.9975127948013327]
[7,1,1,1,1,1,1,1]
[100,1,1,1,null,1,1,1]

{"sheet":"K3","index":5,"n_rows":89,"n_cols":8,"rows_kept":89,"cut":false,"hidden":false,"merged":[]}
[null,null,null,null,null,null,null,{"$f":"+Taul1!M4","v":3}]
["Erittäin nopeasti kovettuva betoni","Suhteellinen lujuus Kt/K3"]
["Kypsyysikä (d)","C40/50","C35/45","C30/37","C25/30","C20/25","C16/20"]
[3.4720833333333335E-3,0,0,0,0,0,0,{"$f":"CHOOSE($H$1,B4,C4,D4,E4,F4,G4)","v":0}]
[4.1666666666666664E-2,0,0,0,0,0,0,{"$f":"CHOOSE($H$1,B5,C5,D5,E5,F5,G5)","v":0}]
[8.3333333333333329E-2,0,0,0,0,0,0,0]
[0.125,0,0,0,0,0,0,0]
[0.16666666666666666,0,0,0,0,0,0,0]
[0.20833333333333334,2.5771751951207955E-2,1.2047506592376482E-5,0,0,0,0,0]
[0.25,0.15281510933355819,8.8157587382000621E-2,3.6258509871298977E-3,0,0,0,3.6258509871298977E-3]
[0.29166666666666669,0.2544595641327998,0.19332005358142693,8.2992121754406067E-2,7.4248358067213202E-3,0,0,8.2992121754406067E-2]
[0.33333333333333331,0.33223287329884255,0.27645563794361727,0.17021827536152104,7.2924567285127084E-2,1.7438030360711055E-2,3.7355684903134274E-8,0.17021827536152104]
[0.375,0.39399578076547931,0.34295847559665316,0.24382406885032953,0.14648709622036624,7.7616427873904548E-2,2.0833916268671159E-2,0.24382406885032953]
[0.41666666666666669,0.44467251637021155,0.39765248198611231,0.30540410534761803,0.21215586111895351,0.14174054998766242,7.2789946336745875E-2,0.30540410534761803]
[0.45833333333333331,0.48732098789367689,0.44372631375917387,0.35766927524733977,0.26929229522054743,0.20053185100133231,0.12894284318653593,0.35766927524733977]
[0.5,0.52392984709878754,0.48329553770514494,0.40273777916285802,0.31917257678388294,0.2530411725488419,0.1820712488283022,0.40273777916285802]
[0.54166666666666663,0.55585267106177894,0.51781162160290339,0.44215139743290488,0.36311058554359249,0.2998659913885246,0.23076765663939286,0.44215139743290488]
[0.58333333333333337,0.58404728232921388,0.54830526695156667,0.47703526857008044,0.40218449761764152,0.34182314115492957,0.27508855391427256,0.47703526857008044]
[0.625,0.60921379604872672,0.57553107291978456,0.5082251303254105,0.43724053375585831,0.37965954545933428,0.31545702124574332,0.5082251303254105]
[0.66666666666666663,0.63187803454685709,0.6000561958507532,0.53635442122506782,0.46893988879753751,0.41400122668253581,0.3523511479172543,0.53635442122506782]
[0.70833333333333337,0.65244407395747139,0.62231660798929012,0.56191261856454344,0.49780308220936864,0.44536049452631737,0.3862135640159286,0.56191261856454344]
[0.75,0.67122856821233112,0.64265399112229193,0.58528466360892029,0.52424450916704035,0.4741550814848125,0.41742965177138486,0.58528466360892029]
[0.79166666666666663,0.68848388560019369,0.66134065931968811,0.60677808319368742,0.5485980594975155,0.50072696736690969,0.44632771538398097,0.60677808319368742]
[0.83333333333333337,0.70441413617947579,0.67859684428808187,0.62664202060395724,0.57113591840232159,0.52535807448569904,0.47318561053655167,0.62664202060395724]
[0.875,0.71918654282876593,0.69460296660252085,0.64508085185366781,0.5920824144575112,0.5482826805773392,0.49823853201022483,0.64508085185366781]
[0.91666666666666663,0.73293968008889065,0.70950852940204845,0.6622641078044863,0.61162431355441527,0.5696970652125215,0.52168621360524414,0.6622641078044863]
[0.95833333333333337,0.74578955576542338,0.72343868403056355,0.67833382743006754,0.62991855727601942,0.58976698132426619,0.54369907309005749,0.67833382743006754]
[1,0.75783417526608288,0.73649915756979378,0.69341009215132843,0.6470981489578207,0.60863345991887297,0.56442328773025774,0.69341009215132843]
[1.0416666666666667,0.76915701856119034,0.74878000615864471,0.70759525035539483,0.6632766830477288,0.62641734715874908,0.58398493028685317,0.70759525035539483]
[1.0833333333333333,0.77982972458103295,0.76035851241152697,0.72097718390338084,0.67855186945154888,0.6432228769641839,0.60249332472613459,0.72097718390338084]
[1.125,0.78991418904669319,0.77130144941905721,0.73363186380989154,0.69300830483689391,0.65914050650660694,0.62004376977663089,0.73363186380989154]
[1.1666666666666667,0.79946422213084367,0.78166686946562414,0.74562537148266517,0.70671967338283248,0.67424918472458817,0.63671975575127882,0.74562537148266517]
[1.2083333333333333,0.80852687160561831,0.79150553159500125,0.75701551321764993,0.71975051061192885,0.68861818150075449,0.65259477654330456,0.75701551321764993]
[1.25,0.81714348881441146,0.80086205155925672,0.76785312163618902,0.73215762924619765,0.70230857376405242,0.66773381803462462,0.76785312163618902]
[1.2916666666666667,0.82535059481144879,0.80977583608472248,0.77818311365600668,0.74399128112262458,0.7153744616019686,0.68219458714075365,0.77818311365600668]
[1.3333333333333333,0.83318058969729281,0.81828184792131453,0.78804535728705816,0.75529611113303807,0.72786397027357452,0.6960285321362274,0.78804535728705816]
[1.375,0.84066233779312327,0.82641123692129537,0.79747538696552955,0.76611194590352549,0.73982008118741016,0.70928169422609078,0.79747538696552955]
[1.4166666666666667,0.84782165367107987,0.83419186415576407,0.80650499788824948,0.77647445011531746,0.75128132527518565,0.72199542198675948,0.80650499788824948]
[1.4583333333333333,0.85468170839569302,0.84164873996109346,0.81516274293140456,0.78641567603019635,0.76228236490612855,0.73420697379427924,0.81516274293140456]
[1.5,0.86126337108301643,0.84880439221922444,0.82347435057106322,0.79596452624426539,0.77285448493558284,0.7459500282803142,0.82347435057106322]
[1.5416666666666667,0.86758549766535098,0.85567917770004942,0.83146307830549526,0.80514714547620281,0.78302600922126431,0.75725511888235386,0.83146307830549526]
[1.5833333333333333,0.87366517628864682,0.86229154663724961,0.83915001308214832,0.81398725395783367,0.79282265564780352,0.76815000543325029,0.83915001308214832]
[1.625,0.87951793687227398,0.86865826866068796,0.84655432791992247,0.82250643248885269,0.80226784013745989,0.77865999327294388,0.84655432791992247]
[1.6666666666666667,0.88515793088615291,0.874794626616755,0.85369350211944206,0.83072436726367038,0.81138293811690909,0.78880820841388988,0.85369350211944206]
[1.7083333333333333,0.890598086245452,0.88071458356183419,0.86058351104559017,0.838659061044149,0.8201875103265196,0.79861583573783634,0.86058351104559017]
[1.75,0.89585024131239155,0.88643092723138794,0.867238990355502,0.84632701603918514,0.8286994986020233,0.80810232595820075,0.867238990355502]
[1.7916666666666667,0.90092526127172334,0.89195539550716818,0.87367337866291206,0.85374339288718826,0.83693539625549784,0.81728557608248575,0.87367337866291206]
[1.8333333333333333,0.90583313956888545,0.89729878578197642,0.87989904192473201,0.86092214936520517,0.8449103968773799,0.82618208730136489,0.87989904192473201]
[1.875,0.91058308663565435,0.90247105062072552,0.88592738226900114,0.86787616182668104,0.85263852473129242,0.83480710357532362,0.88592738226900114]
[1.9166666666666667,0.91518360775296659,0.90748138171193404,0.89176893352523634,0.87461733186655854,0.86013274938610185,0.84317473365497109,0.89176893352523634]
[1.9583333333333333,0.91964257159574081,0.91233828377504356,0.89743344534588898,0.88115668030288608,0.86740508679956863,0.85129805883307841,0.89743344534588898]
[2,0.92396727075556828,0.91704963982048215,0.90292995750349103,0.88750443022920478,0.87446668871557942,0.85918922836601541,0.90292995750349103]
[2.0416666666666665,0.92816447533281654,0.92162276893908712,0.90826686569844961,0.89367008061679754,0.88132792194690257,0.86685954420452516,0.90826686569844961]
[2.0833333333333335,0.93224048052123354,0.92606447761587962,0.91345198000660166,0.8996624717187528,0.88799843887560026,0.87431953642678506,0.91345198000660166]
[2.125,0.93620114896862394,0.9303811054127733,0.9184925769251544,0.90548984333950666,0.8944872403041374,0.88157903056105502,0.9184925769251544]
[2.1666666666666665,0.94005194858116004,0.93457856573973619,0.92339544583383426,0.91115988687678207,0.90080273162427071,0.88864720781327555,0.92339544583383426]
[2.2083333333333335,0.94379798634200729,0.93866238232949717,0.9281669305696485,0.916679791911855,0.90695277313191158,0.89553265907075552,0.9281669305696485]
[2.25,0.94744403863374982,0.94263772194335982,0.93281296671439518,0.92205628801417705,0.91294472519951153,0.90224343343165647,0.93281296671439518]
[2.2916666666666665,0.95099457848578717,0.94650942376205793,0.93733911511052592,0.92729568233385695,0.91878548891918743,0.90878708190739399,0.93733911511052592]
[2.3333333333333335,0.95445380011019054,0.9502820258534227,0.94175059205043421,0.93240389347731745,0.92448154274663052,0.91517069685814156,0.94175059205043421]
[2.375,0.95782564104065815,0.95395978905595991,0.94605229652448775,0.93738648209516162,0.93003897560526727,0.92140094764770197,0.94605229652448775]
[2.4166666666666665,0.96111380214766451,0.95754671857269491,0.95024883486231915,0.9422486785549018,0.93546351685004936,0.92748411294096755,0.95024883486231915]
[2.4583333333333335,0.96432176576750628,0.96104658353146566,0.95434454305857519,0.94699540802311,0.94076056343894143,0.9334261100132778,0.95434454305857519]
[2.5,0.96745281215265866,0.96446293473522582,0.95834350703728266,0.95163131324038019,0.94593520461623037,0.93923252139472901,0.95834350703728266]
[2.5416666666666665,0.97051003442489081,0.96779912079792718,0.96224958107719838,0.95616077523717624,0.95099224437404195,0.94490861913270996,0.96224958107719838]
[2.5833333333333335,0.97349635219025554,0.97105830283748029,0.96606640459319038,0.96058793220822658,0.95593622192593275,0.95045938692163712,0.96606640459319038]
[2.625,0.9764145239558033,0.9742434678765366,0.96979741744510461,0.96491669673690572,0.96077143039837287,0.95588954031918894,0.96979741744510461]
[2.6666666666666665,0.97926715847121937,0.97735744108388867,0.97344587392519899,0.96915077153833762,0.96550193392161987,0.96120354524263973,0.97344587392519899]
[2.7083333333333335,0.98205672510414921,0.98040289697372685,0.9770148555575332,0.97329366387027605,0.9701315832804045,0.96640563491654619,{"$f":"CHOOSE($H$1,B69,C69,D69,E69,F69,G69)","v":0.9770148555575332}]
[2.75,0.98478556334543166,0.98338236966647308,0.98050728282736299,0.97734869874370445,0.97466403026650172,0.97149982542359492,0.98050728282736299]
[2.7916666666666665,0.98745589152953417,0.98629826230314155,0.98392592594518857,0.9813190310501807,0.97910274085925875,0.97648992999341921,0.98392592594518857]
[2.8333333333333335,0.99006981484595313,0.98915285569489875,0.98727341473843588,0.98520765670993182,0.9834510073461783,0.98137957214936922,0.98727341473843588]
[2.875,0.99262933270899678,0.99194831628050306,0.99055224775352835,0.98901742293329975,0.98771195948341117,0.9861721978201653,0.99055224775352835]
[2.9166666666666665,0.9951363455460559,0.99468670345642252,0.99376480064213635,0.99275103767813733,0.99188857478526582,0.99087108651195477,0.99376480064213635]
[2.9583333333333335,0.99759266105803901,0.99736997633750823,0.99691333389752734,0.99641107837697207,0.99598368802239512,0.99547936162620421,0.99691333389752734]
[3,1,1,1,1,1,1,1]
[3.01,1,1,1,null,1,1,1]
[3.02,1,1,1,null,1,1,1]
[3.03,1,1,1,null,1,1,1]
[3.04,1,1,1,null,1,1,1]
[3.05,1,1,1,null,1,1,1]
[3.06,1,1,1,null,1,1,1]
[3.07,1,1,1,null,1,1,1]
[3.08,1,1,1,null,1,1,1]
[3.09,1,1,1,null,1,1,1]
[3.1,1,1,1,null,1,1,1]
[3.11,1,1,1,null,1,1,1]
[3.12,1,1,1,null,1,1,1]
[100,1,1,1,null,1,1,1]